View In:
ArcGIS JavaScript
ArcGIS Online Map Viewer
ArcGIS Earth
ArcGIS Pro
Service Description: <DIV STYLE="text-align:Left;font-size:12pt"><DIV><P><SPAN>R</SPAN><SPAN>aster med </SPAN><SPAN>turist</SPAN><SPAN>kart</SPAN><SPAN>a</SPAN><SPAN> </SPAN><SPAN>från 1961.</SPAN></P></DIV></DIV>
Map Name: Eslövs stad 1961
Legend
All Layers and Tables
Layers:
Description: <DIV STYLE="text-align:Left;font-size:12pt"><DIV><P><SPAN>R</SPAN><SPAN>aster med </SPAN><SPAN>turist</SPAN><SPAN>kart</SPAN><SPAN>a</SPAN><SPAN> </SPAN><SPAN>från 1961.</SPAN></P></DIV></DIV>
Service Item Id: 5d8c5df5bad740b99c39f9b05c1cbd7d
Copyright Text:
Spatial Reference:
102100
(3857)
LatestVCSWkid(0)
Single Fused Map Cache: true
Tile Info:
- Height: 256.0
- Width: 256.0
- DPI: 96.0
-
Levels of Detail: 24
-
Level ID: 1
[ Start Tile, End Tile ]
- Resolution: 78271.5169639999
- Scale: 2.95828763795777E8
-
Level ID: 2
[ Start Tile, End Tile ]
- Resolution: 39135.7584820001
- Scale: 1.47914381897889E8
-
Level ID: 3
[ Start Tile, End Tile ]
- Resolution: 19567.8792409999
- Scale: 7.3957190948944E7
-
Level ID: 4
[ Start Tile, End Tile ]
- Resolution: 9783.93962049996
- Scale: 3.6978595474472E7
-
Level ID: 5
[ Start Tile, End Tile ]
- Resolution: 4891.96981024998
- Scale: 1.8489297737236E7
- Format: Mixed
- Compression Quality: 75.0
- Origin: X: -2.0037508342787E7
Y: 2.0037508342787E7
- Spatial Reference: 102100
(3857)
LatestVCSWkid(0)
Storage Info:
- Storage Format: esriMapCacheStorageModeCompactV2
- Packet Size: 128
Initial Extent:
XMin: 1475363.7245645728
YMin: 7521868.899494839
XMax: 1486362.818776872
YMax: 7530726.71785707
Spatial Reference: 102100
(0)
LatestVCSWkid(0)
Full Extent:
XMin: 1476637.818892765
YMin: 7522805.852041448
XMax: 1485091.189961671
YMax: 7529790.40108846
Spatial Reference: 102100
(0)
LatestVCSWkid(0)
Units: esriMeters
Supported Image Format Types: PNG32,PNG24,PNG,JPG,DIB,TIFF,EMF,PS,PDF,GIF,SVG,SVGZ,BMP
Document Info:
Title: Eslövs stad 1961
Author:
Comments: <DIV STYLE="text-align:Left;font-size:12pt"><DIV><P><SPAN>R</SPAN><SPAN>aster med </SPAN><SPAN>turist</SPAN><SPAN>kart</SPAN><SPAN>a</SPAN><SPAN> </SPAN><SPAN>från 1961.</SPAN></P></DIV></DIV>
Subject: Eslövs stad 1961.
Category:
Keywords: Eslöv
AntialiasingMode: Fast
TextAntialiasingMode: Force
Supports Dynamic Layers: false
MaxRecordCount: 1000
MaxImageHeight: 4096
MaxImageWidth: 4096
Supported Query Formats: JSON, geoJSON, PBF
Supports Query Data Elements: true
Min Scale: 18055
Max Scale: 1128
Min LOD: 15
Max LOD: 19
Supports Datum Transformation: true
Child Resources:
Info
Supported Operations:
QueryLegends
Return Updates